Workbook

Sheet Gemeinden
A1: Gem_ID | B1: GemName
A2: 31701 | B2: Achau
A3: 31702 | B3: Biedermannsdorf
A4: 31703 | B4: Breitenfurt bei Wien
A5: 31704 | B5: Brunn am Gebirge
A6: 31706 | B6: Gaaden
A7: 31707 | B7: Gießhübl
A8: 31709 | B8: Gumpoldskirchen
A9: 31710 | B9: Guntramsdorf
A10: 31711 | B10: Hennersdorf
A11: 31712 | B11: Hinterbrühl
A12: 31713 | B12: Kaltenleutgeben
A13: 31714 | B13: Laab im Walde
... A21: 31726 | B21: Wienerwald
B23: Bezirk ID | C23: 317
B24: Gemeinden NÖ | C24: 573
B25: Gemeinden Ö | C25: 2095

Sheet SA0
A1: aktKennz | B1: parameter | C1: 2020 | D1: 2021 | E1: 2022 | F1: 2023 | G1: 2024
A2: SA0 | B2: Burgenland | C2: -53239263 | D2: 462691.06 | E2: 879874.97 | F2: -59046459 | G2: -64850159
A3: SA0 | B3: Kärnten | C3: -70406213 | D3: 7472470.1 | E3: 87265939 | F3: -4417624.9 | G3: -25068785
A4: SA0 | B4: Niederösterreich | C4: 1.0819891e+08 | D4: 3.4220819e+08 | E4: 6.0309782e+08 | F4: 63530620 | G4: 13835151
A5: SA0 | B5: Oberösterreich | C5: -20098280 | D5: 1.0562987e+08 | E5: 3.4588436e+08 | F5: 18525638 | G5: -21994562
A6: SA0 | B6: Salzburg | C6: -1.0446099e+08 | D6: 25205467 | E6: 3.0303717e+08 | F6: 79696740 | G6: -1.4598601e+08
A7: SA0 | B7: Steiermark | C7: -1.4557522e+08 | D7: 30501354 | E7: 6.2930083e+08 | F7: -2.1687237e+08 | G7: -1.711466e+08
A8: SA0 | B8: Tirol | C8: 32128879 | D8: 1.2240086e+08 | E8: 2.6550471e+08 | F8: 36676765 | G8: -44694812
A9: SA0 | B9: Vorarlberg | C9: -8325446 | D9: 22143201 | E9: 94088422 | F9: -12477831 | G9: -33717385
B10: Österreich | C10: =SUM(C2:C9) -> -2.6177762e+08 | D10: =SUM(D2:D9) -> 6.5602411e+08 | E10: =SUM(E2:E9) -> 2.3290591e+09 | F10: =SUM(F2:F9) -> -94384519 | G10: =SUM(G2:G9) -> -4.9362316e+08
A12: SA0 | B12: Achau | C12: -59023.21
A13: SA0 | B13: Biedermannsdorf | C13: 868846.01
A14: SA0 | B14: Breitenfurt bei Wien | C14: -600257.59
A15: SA0 | B15: Brunn am Gebirge | C15: 881234.83
A16: SA0 | B16: Gaaden | C16: -201266.17
A17: SA0 | B17: Gießhübl | C17: 496518.4
A18: SA0 | B18: Gumpoldskirchen | C18: 472186.28
A19: SA0 | B19: Guntramsdorf | C19: -744732.85
A20: SA0 | B20: Hennersdorf | C20: 238339.51
A21: SA0 | B21: Hinterbrühl | C21: 127843.86
A22: SA0 | B22: Kaltenleutgeben | C22: -197773.29
A23: SA0 | B23: Laab im Walde | C23: 122575.12
... A31: SA0 | B31: Wienerwald | C31: 370696.83
A32: SA0 | B32: NÖ Durchschn | C32: =G4/Gemeinden!C24 -> 24145.115
A33: SA0 | B33: Österreich Durchschn | C33: =G10/Gemeinden!C25 -> -235619.65

Sheet nettoVQ
A1: aktKennz | B1: parameter | C1: 2020 | D1: 2021 | E1: 2022 | F1: 2023 | G1: 2024
A2: NVQ | B2: Burgenland | C2: 0.8663 | D2: 0.8655 | E2: 0.86 | F2: 0.851 | G2: 0.8368
A3: NVQ | B3: Kärnten | C3: 0.7484 | D3: 0.7446 | E3: 0.7602 | F3: 0.7592 | G3: 0.7509
A4: NVQ | B4: Niederösterreich | C4: 0.7652 | D4: 0.7756 | E4: 0.7855 | F4: 0.7834 | G4: 0.7729
A5: NVQ | B5: Oberösterreich | C5: 0.783 | D5: 0.7866 | E5: 0.8011 | F5: 0.806 | G5: 0.8056
A6: NVQ | B6: Salzburg | C6: 0.6506 | D6: 0.6568 | E6: 0.6846 | F6: 0.6946 | G6: 0.6797
A7: NVQ | B7: Steiermark | C7: 0.5768 | D7: 0.58 | E7: 0.6231 | F7: 0.6043 | G7: 0.5857
A8: NVQ | B8: Tirol | C8: 0.8273 | D8: 0.834 | E8: 0.8463 | F8: 0.8443 | G8: 0.8409
A9: NVQ | B9: Vorarlberg | C9: 0.7215 | D9: 0.7212 | E9: 0.7218 | F9: 0.7092 | G9: 0.6976
B10: Österreich | C10: =SUM(C2:C9)/9 -> 0.6599 | D10: =SUM(D2:D9)/9 -> 0.6627 | E10: =SUM(E2:E9)/9 -> 0.67584444 | F10: =SUM(F2:F9)/9 -> 0.67244444 | G10: =SUM(G2:G9)/9 -> 0.66334444
A12: liquN | B12: Achau | C12: 0.7518
B13: Biedermannsdorf | C13: 0.9663
B14: Breitenfurt bei Wien | C14: 0.8182
B15: Brunn am Gebirge | C15: 0.8974
B16: Gaaden | C16: 0.9872
B17: Gießhübl | C17: 0.9013
B18: Gumpoldskirchen | C18: 0.8774
B19: Guntramsdorf | C19: 0.7411
B20: Hennersdorf | C20: 0.9311
B21: Hinterbrühl | C21: 0.8968
B22: Kaltenleutgeben | C22: 0.925
B23: Laab im Walde | C23: 0.7382
B24: Laxenburg | C24: 0.6764
... B31: Wienerwald | C31: 0.8524
B32: NÖ Durchschn | C32: =G4 -> 0.7729
B33: Österreich Durchschn | C33: =G10 -> 0.66334444

Sheet Passiva
A1: Nettov | B1: parameter | C1: 2020 | D1: 2021 | E1: 2022 | F1: 2023 | G1: 2024
A2: EK | B2: Burgenland | C2: 2.889326e+09 | D2: 2.9075058e+09 | E2: 2.9170043e+09 | F2: 2.8837778e+09 | G2: 2.8544707e+09
A3: EK | B3: Kärnten | C3: 4.130086e+09 | D3: 4.1718866e+09 | E3: 4.3016613e+09 | F3: 4.3416371e+09 | G3: 4.3637768e+09
A4: EK | B4: Niederösterreich | C4: 1.4614378e+10 | D4: 1.5225226e+10 | E4: 1.5944861e+10 | F4: 1.6199802e+10 | G4: 1.6412155e+10
A5: EK | B5: Oberösterreich | C5: 1.3217623e+10 | D5: 1.3493165e+10 | E5: 1.3986631e+10 | F5: 1.4214412e+10 | G5: 1.450658e+10
A6: EK | B6: Salzburg | C6: 4.9375456e+09 | D6: 5.032566e+09 | E6: 5.4006013e+09 | F6: 5.6260944e+09 | G6: 5.5723401e+09
A7: EK | B7: Steiermark | C7: 7.6919337e+09 | D7: 7.9017024e+09 | E7: 8.6452217e+09 | F7: 8.5106829e+09 | G7: 8.5261487e+09
A8: EK | B8: Tirol | C8: 1.0550029e+10 | D8: 1.092522e+10 | E8: 1.1254697e+10 | F8: 1.1468834e+10 | G8: 1.1613694e+10
A9: EK | B9: Vorarlberg | C9: 3.9831112e+09 | D9: 4.0788655e+09 | E9: 4.2401179e+09 | F9: 4.3012144e+09 | G9: 4.3893179e+09
C10: =SUM(C2:C9) -> 6.2014032e+10 | D10: =SUM(D2:D9) -> 6.3736137e+10 | E10: =SUM(E2:E9) -> 6.6690795e+10 | F10: =SUM(F2:F9) -> 6.7546454e+10 | G10: =SUM(G2:G9) -> 6.8238483e+10
A11: Fremdv
A12: FK | B12: Burgenland | C12: 4.459317e+08 | D12: 4.5193166e+08 | E12: 4.7481393e+08 | F12: 5.0505792e+08 | G12: 5.5657559e+08
A13: FK | B13: Kärnten | C13: 1.3886033e+09 | D13: 1.4309011e+09 | E13: 1.3565992e+09 | F13: 1.3773163e+09 | G13: 1.4476945e+09
A14: FK | B14: Niederösterreich | C14: 4.4837108e+09 | D14: 4.4060376e+09 | E14: 4.3533736e+09 | F14: 4479710765 | G14: 4.8228367e+09
A15: FK | B15: Oberösterreich | C15: 3.663183e+09 | D15: 3.6599143e+09 | E15: 3.4716587e+09 | F15: 3.4223385e+09 | G15: 3.501282e+09
A16: FK | B16: Salzburg | C16: 2.6516528e+09 | D16: 2.6299711e+09 | E16: 2.4877404e+09 | F16: 2.4740889e+09 | G16: 2.6264008e+09
A17: FK | B17: Steiermark | C17: 5.6427202e+09 | D17: 5.7216559e+09 | E17: 5.2289027e+09 | F17: 5.5719201e+09 | G17: 6.0299429e+09
A18: FK | B18: Tirol | C18: 2.2023943e+09 | D18: 2.1744125e+09 | E18: 2.0433116e+09 | F18: 2.1144462e+09 | G18: 2.1971409e+09
A19: FK | B19: Vorarlberg | C19: 1.5375424e+09 | D19: 1.5764509e+09 | E19: 1.6346298e+09 | F19: 1.763841e+09 | G19: 1.9027335e+09
B20: Österreich | C20: =SUM(C12:C19) -> 2.2015739e+10 | D20: =SUM(D12:D19) -> 2.2051275e+10 | E20: =SUM(E12:E19) -> 2.105103e+10 | F20: =SUM(F12:F19) -> 2.170872e+10 | G20: =SUM(G12:G19) -> 2.3084607e+10
C23: Nettovermögen | D23: Fremdvermögen | E23: Bilanzsumme
B24: Achau | C24: 38045393 | D24: 12560231 | E24: =SUM(C24:D24) -> 50605624
B25: Biedermannsdorf | C25: 1.3255147e+08 | D25: 4624174.2 | E25: =SUM(C25:D25) -> 1.3717565e+08
B26: Breitenfurt bei Wien | C26: 31802621 | D26: 7068255.8 | E26: =SUM(C26:D26) -> 38870877
B27: Brunn am Gebirge | C27: 1.3795013e+08 | D27: 15776823 | E27: =SUM(C27:D27) -> 1.5372696e+08
B28: Gaaden | C28: 30817676 | D28: 400038.83 | E28: =SUM(C28:D28) -> 31217714
B29: Gießhübl | C29: 35780000 | D29: 3920220.2 | E29: =SUM(C29:D29) -> 39700221
B30: Gumpoldskirchen | C30: 39208592 | D30: 5478295.5 | E30: =SUM(C30:D30) -> 44686888
B31: Guntramsdorf | C31: 1.4481496e+08 | D31: 50584677 | E31: =SUM(C31:D31) -> 1.9539964e+08
B32: Hennersdorf | C32: 16113535 | D32: 1191603.4 | E32: =SUM(C32:D32) -> 17305138
B33: Hinterbrühl | C33: 51415195 | D33: 5915338.5 | E33: =SUM(C33:D33) -> 57330533
B34: Kaltenleutgeben | C34: 60111934 | D34: 4877135.5 | E34: =SUM(C34:D34) -> 64989069
B35: Laab im Walde | C35: 14690937 | D35: 5210654.9 | E35: =SUM(C35:D35) -> 19901591
... B43: Wienerwald | C43: 23375448 | D43: 4046303 | E43: =SUM(C43:D43) -> 27421751
B44: NÖ Durchschn | C44: =G4/Gemeinden!C24 -> 28642504 | D44: =G14/Gemeinden!C24 -> 8416818.1 | E44: =SUM(C44:D44) -> 37059322
B45: Österreich Durchschn | C45: =G10/Gemeinden!C25 -> 32572068 | D45: =G20/Gemeinden!C25 -> 11018905 | E45: =SUM(C45:D45) -> 43590974

Sheet liquMNetto
A1: aktKennz | B1: parameter | C1: 2020 | D1: 2021 | E1: 2022 | F1: 2023 | G1: 2024
A2: LM_NettoV | B2: Burgenland | C2: 1.2851233e+08 | D2: 1.5939389e+08 | E2: 1.6675283e+08 | F2: 1.2378716e+08 | G2: 1.1636534e+08
A3: LM_NettoV | B3: Kärnten | C3: 2.8616213e+08 | D3: 3.6191652e+08 | E3: 4.4220886e+08 | F3: 4.4587426e+08 | G3: 4.061069e+08
A4: LM_NettoV | B4: Niederösterreich | C4: 8.578666e+08 | D4: 1.0709494e+09 | E4: 1.352683e+09 | F4: 1.1196658e+09 | G4: 9.5074534e+08
A5: LM_NettoV | B5: Oberösterreich | C5: 5.9737401e+08 | D5: 6.1319171e+08 | E5: 7.2535945e+08 | F5: 7.0732078e+08 | G5: 6.0756475e+08
A6: LM_NettoV | B6: Salzburg | C6: 3.6148227e+08 | D6: 4.2875131e+08 | E6: 5.3131775e+08 | F6: 571017377 | G6: 5.6652169e+08
A7: LM_NettoV | B7: Steiermark | C7: 4.1153671e+08 | D7: 4.7223336e+08 | E7: 7.0438356e+08 | F7: 6.6043128e+08 | G7: 6.1223075e+08
A8: LM_NettoV | B8: Tirol | C8: 3.1860697e+08 | D8: 3.6757233e+08 | E8: 4.6018618e+08 | F8: 4.1365191e+08 | G8: 3.4549838e+08
A9: LM_NettoV | B9: Vorarlberg | C9: 1.99771e+08 | D9: 2.532209e+08 | E9: 2.9281479e+08 | F9: 2.2872302e+08 | G9: 1.6440036e+08
B10: Österreich | C10: =SUM(C2:C9) -> 3.161312e+09 | D10: =SUM(D2:D9) -> 3.7272294e+09 | E10: =SUM(E2:E9) -> 4.6757064e+09 | F10: =SUM(F2:F9) -> 4.2704716e+09 | G10: =SUM(G2:G9) -> 3.7694335e+09
A12: liquN | B12: Achau | C12: 2214598.9
B13: Biedermannsdorf | C13: 3001236.2
B14: Breitenfurt bei Wien | C14: 1476896.3
B15: Brunn am Gebirge | C15: 5038014.9
B16: Gaaden | C16: 1936583.2
B17: Gießhübl | C17: 1875665.9
B18: Gumpoldskirchen | C18: 1335347.6
B19: Guntramsdorf | C19: 4080996.7
B20: Hennersdorf | C20: 427348.41
B21: Hinterbrühl | C21: 1213080.4
B22: Kaltenleutgeben | C22: 1706332.1
B23: Laab im Walde | C23: 599096.51
B24: Laxenburg | C24: 2475055.6
... B31: Wienerwald | C31: 801664.79
B32: NÖ Durchschn | C32: =G4/Gemeinden!C24 -> 1659241.4
B33: Österreich Durchschn | C33: =G10/Gemeinden!C25 -> 1799252.3

Sheet veräLiquM
A1: aktKennz | B1: parameter | C1: 2020 | D1: 2021 | E1: 2022 | F1: 2023 | G1: 2024
A2: SA7 | B2: Burgenland | C2: -6534928.1 | D2: 31908612 | E2: 7504762.1 | F2: -41927881 | G2: -6125317.2
A3: SA7 | B3: Kärnten | C3: -6235884.5 | D3: 76436326 | E3: 72851125 | F3: 3915427.5 | G3: -34930387
A4: SA7 | B4: Niederösterreich | C4: 32835927 | D4: 2.1438054e+08 | E4: 3.0248529e+08 | F4: -2.540968e+08 | G4: -1.6377448e+08
A5: SA7 | B5: Oberösterreich | C5: -5.462843e+08 | D5: -5.132887e+08 | E5: -6.6722836e+08 | F5: -1.1921357e+09 | G5: -1.7008968e+09
A6: SA7 | B6: Salzburg | C6: -16536437 | D6: 64851764 | E6: 1.0334718e+08 | F6: 39406969 | G6: -3543133.4
A7: SA7 | B7: Steiermark | C7: -53334559 | D7: 60139299 | E7: 2.4279883e+08 | F7: -42188404 | G7: -51904644
A8: SA7 | B8: Tirol | C8: 62262313 | D8: 48294767 | E8: 98280760 | F8: -52414870 | G8: -68272798
A9: SA7 | B9: Vorarlberg | C9: -14960661 | D9: 55040258 | E9: 40441563 | F9: -64716996 | G9: -64322660
B10: Österreich | C10: =SUM(C2:C9) -> -5.4878853e+08 | D10: =SUM(D2:D9) -> 37762869 | E10: =SUM(E2:E9) -> 2.0048115e+08 | F10: =SUM(F2:F9) -> -1.6041582e+09 | G10: =SUM(G2:G9) -> -2.0937702e+09
A12: SA7 | B12: Achau | C12: 55262.36
B13: Biedermannsdorf | C13: 1016091
B14: Breitenfurt bei Wien | C14: 32860.56
B15: Brunn am Gebirge | C15: 1969365.1
B16: Gaaden | C16: 292701.08
B17: Gießhübl | C17: -1280928.4
B18: Gumpoldskirchen | C18: -5169539.7
B19: Guntramsdorf | C19: 34858.54
B20: Hennersdorf | C20: -237192.72
B21: Hinterbrühl | C21: -1599445.8
B22: Kaltenleutgeben | C22: -182212.83
B23: Laab im Walde | C23: 382819.46
B24: Laxenburg | C24: -1990313.3
... B31: Wienerwald | C31: -296933
B32: NÖ Durchschn | C32: =G4/Gemeinden!C24 -> -285819.34
B33: Österreich Durchschn | C33: =G10/Gemeinden!C25 -> -999412.99

Sheet Sachanl
A1: aktKennz | B1: parameter | C1: 2020 | D1: 2021 | E1: 2022 | F1: 2023 | G1: 2024
A2: Sach | B2: Burgenland | E2: 3.0526528e+09 | F2: 3.0848029e+09 | G2: 3.1042194e+09
A3: Sach | B3: Kärnten | E3: 4.4684549e+09 | F3: 4.5094502e+09 | G3: 4.5513186e+09
A4: Sach | B4: Niederösterreich | E4: 1.7583303e+10 | F4: 1.8162118e+10 | G4: 1.8816367e+10
A5: Sach | B5: Oberösterreich | E5: 1.4454941e+10 | F5: 1.4648812e+10 | G5: 1.4901607e+10
A6: Sach | B6: Salzburg | E6: 6.0269131e+09 | F6: 6195624047 | G6: 6.3015072e+09
A7: Sach | B7: Steiermark | E7: 1.1357971e+10 | F7: 1.1609859e+10 | G7: 1.1925806e+10
A8: Sach | B8: Tirol | E8: 1.0307301e+10 | F8: 1.054748e+10 | G8: 1.082541e+10
A9: Sach | B9: Vorarlberg | E9: 4.927814e+09 | F9: 5.1479621e+09 | G9: 5.4163809e+09
B10: Österreich | C10: =SUM(C2:C9) -> 0 | D10: =SUM(D2:D9) -> 0 | E10: =SUM(E2:E9) -> 7.2179351e+10 | F10: =SUM(F2:F9) -> 7.3906108e+10 | G10: =SUM(G2:G9) -> 7.5842617e+10
A12: SA7 | B12: Achau | C12: 46405309
B13: Biedermannsdorf | C13: 1.3334979e+08
B14: Breitenfurt bei Wien | C14: 36662072
B15: Brunn am Gebirge | C15: 1.4009635e+08
B16: Gaaden | C16: 28820515
B17: Gießhübl | C17: 37163512
B18: Gumpoldskirchen | C18: 38926506
B19: Guntramsdorf | C19: 1.8041349e+08
B20: Hennersdorf | C20: 16130401
B21: Hinterbrühl | C21: 54721927
B22: Kaltenleutgeben | C22: 60277568
B23: Laab im Walde | C23: 19228595
B24: Laxenburg | C24: 50064933
... B31: Wienerwald | C31: 22415795
B32: NÖ Durchschn | C32: =G4/Gemeinden!C24 -> 32838337
B33: Österreich Durchschn | C33: =G10/Gemeinden!C25 -> 36201726

Sheet InvestCF
A1: aktKennz | B1: parameter | C1: 2020 | D1: 2021 | E1: 2022 | F1: 2023 | G1: 2024
A2: Invest | B2: Burgenland | C2: 36256855 | D2: 39477536 | E2: 53685827 | F2: 55567133 | G2: 43860637
A3: Invest | B3: Kärnten | C3: 77197386 | D3: 71529031 | E3: 81436177 | F3: 1.0702978e+08 | G3: 1.2627124e+08
A4: Invest | B4: Niederösterreich | C4: 3.3553888e+08 | D4: 3.3735714e+08 | E4: 4.0268167e+08 | F4: 5.0090288e+08 | G4: 6.5781419e+08
A5: Invest | B5: Oberösterreich | C5: 2.2016458e+08 | D5: 2.7863933e+08 | E5: 2.9444624e+08 | F5: 3.2883878e+08 | G5: 3.6819186e+08
A6: Invest | B6: Salzburg | C6: 1.2188665e+08 | D6: 1.4914846e+08 | E6: 2.2029085e+08 | F6: 2.4626296e+08 | G6: 1.787272e+08
A7: Invest | B7: Steiermark | C7: 2.7246149e+08 | D7: 2.6806119e+08 | E7: 2.8264027e+08 | F7: 3.3087473e+08 | G7: 3.6492937e+08
A8: Invest | B8: Tirol | C8: 2.0487885e+08 | D8: 2.4207564e+08 | E8: 2.1902879e+08 | F8: 2.6931607e+08 | G8: 2.6652215e+08
A9: Invest | B9: Vorarlberg | C9: 1.6145267e+08 | D9: 1.5071198e+08 | E9: 1.8141004e+08 | F9: 2.1890655e+08 | G9: 2.5480809e+08
B10: Österreich | C10: =SUM(C2:C9) -> 1.4298374e+09 | D10: =SUM(D2:D9) -> 1.5370003e+09 | E10: =SUM(E2:E9) -> 1.7356199e+09 | F10: =SUM(F2:F9) -> 2.0576989e+09 | G10: =SUM(G2:G9) -> 2.2611247e+09
A12: SA7 | B12: Achau | C12: 2195950.2
B13: Biedermannsdorf | C13: 718642.05
B14: Breitenfurt bei Wien | C14: 2989071.4
B15: Brunn am Gebirge | C15: 3008822.8
B16: Gaaden | C16: 209466.41
B17: Gießhübl | C17: 597706.57
B18: Gumpoldskirchen | C18: 4344812.1
B19: Guntramsdorf | C19: 3238805.3
B20: Hennersdorf | C20: 153165.61
B21: Hinterbrühl | C21: 1915594.4
B22: Kaltenleutgeben | C22: 902128.43
B23: Laab im Walde | C23: 643079.28
B24: Laxenburg | C24: 1283929.9
... B31: Wienerwald | C31: 2116354
B32: NÖ Durchschn | C32: =G4/Gemeinden!C24 -> 1148017.8
B33: Österreich Durchschn | C33: =G10/Gemeinden!C25 -> 1079295.8

Sheet Abschr
B1: parameter | C1: 2020 | D1: 2021 | E1: 2022 | F1: 2023 | G1: 2024
A2: Abplan | B2: Burgenland | C2: 1.1259564e+08 | D2: 1.1367976e+08 | E2: 1.1341627e+08 | F2: 1.1573993e+08 | G2: 1.1672925e+08
A3: Abplan | B3: Kärnten | C3: 1.7154723e+08 | D3: 1.7314245e+08 | E3: 1.739268e+08 | F3: 1.7421651e+08 | G3: 1.7904898e+08
A4: Abplan | B4: Niederösterreich | C4: 5.7823446e+08 | D4: 6.1974817e+08 | E4: 6.280299e+08 | F4: 6.3803356e+08 | G4: 6.6410844e+08
A5: Abplan | B5: Oberösterreich | C5: 4.251476e+08 | D5: 4.3205495e+08 | E5: 4.4773835e+08 | F5: 4.6008118e+08 | G5: 4.6347597e+08
A6: Abplan | B6: Salzburg | C6: 1.8516786e+08 | D6: 1.9078961e+08 | E6: 1.9553979e+08 | F6: 2.0184773e+08 | G6: 2.0926739e+08
A7: Abplan | B7: Steiermark | C7: 3.781753e+08 | D7: 3.8854418e+08 | E7: 3.9957981e+08 | F7: 4.1522184e+08 | G7: 4.1969317e+08
A8: Abplan | B8: Tirol | C8: 2.7795803e+08 | D8: 2.8679188e+08 | E8: 2.7990847e+08 | F8: 2.8107889e+08 | G8: 2.8715907e+08
A9: Abplan | B9: Vorarlberg | C9: 1.2940042e+08 | D9: 1.360514e+08 | E9: 1.3738345e+08 | F9: 1.4816975e+08 | G9: 1.5532378e+08
B10: Österreich | C10: =SUM(C2:C9) -> 2.2582265e+09 | D10: =SUM(D2:D9) -> 2.3408024e+09 | E10: =SUM(E2:E9) -> 2.3755228e+09 | F10: =SUM(F2:F9) -> 2.4343894e+09 | G10: =SUM(G2:G9) -> 2.4948061e+09
A12: Abauplan | B12: Burgenland | C12: 0 | D12: 8958353.1 | E12: 5868364.1 | F12: 4765217.5 | G12: 6316595.1
A13: Abauplan | B13: Kärnten | C13: 0 | D13: 8763732.4 | E13: 12658932 | F13: 8957667.6 | G13: 6220315.5
A14: Abauplan | B14: Niederösterreich | C14: 0 | D14: 47649332 | E14: 33276731 | F14: 26546036 | G14: 32993628
A15: Abauplan | B15: Oberösterreich | C15: 0 | D15: 1.0456142e+08 | E15: 19704582 | F15: 32530542 | G15: 17320294
A16: Abauplan | B16: Salzburg | C16: 0 | D16: 24470448 | E16: 2575867.4 | F16: 681172.66 | G16: 311189.48
A17: Abauplan | B17: Steiermark | C17: 0 | D17: 40798631 | E17: 36004984 | F17: 33950848 | G17: 29127413
A18: Abauplan | B18: Tirol | C18: 0 | D18: 11623194 | E18: 10099416 | F18: 6390737.1 | G18: 25660571
A19: Abauplan | B19: Vorarlberg | C19: 0 | D19: 5447540.3 | E19: 16789753 | F19: 7255125.1 | G19: 6929885.9
B20: Österreich | C20: =SUM(C12:C19) -> 0 | D20: =SUM(D12:D19) -> 2.5227265e+08 | E20: =SUM(E12:E19) -> 1.3697863e+08 | F20: =SUM(F12:F19) -> 1.2107735e+08 | G20: =SUM(G12:G19) -> 1.2487989e+08
C23: Abplan | D23: Abauplan | E23: Gesamte Abschreibung
B24: Achau | C24: 919586.81 | D24: 736134.27 | E24: =SUM(C24:D24) -> 1655721.1
B25: Biedermannsdorf | C25: 1451069.3 | D25: 3542.9 | E25: =SUM(C25:D25) -> 1454612.2
B26: Breitenfurt bei Wien | C26: 1373620.7 | D26: 0 | E26: =SUM(C26:D26) -> 1373620.7
B27: Brunn am Gebirge | C27: 4479540.7 | D27: 7801.62 | E27: =SUM(C27:D27) -> 4487342.3
B28: Gaaden | C28: 478033.89 | D28: 0 | E28: =SUM(C28:D28) -> 478033.89
B29: Gießhübl | C29: 575330.46 | D29: 22607.81 | E29: =SUM(C29:D29) -> 597938.27
B30: Gumpoldskirchen | C30: 1068373.2 | D30: 954334.06 | E30: =SUM(C30:D30) -> 2022707.3
B31: Guntramsdorf | C31: 4164604.8 | D31: 0 | E31: =SUM(C31:D31) -> 4164604.8
B32: Hennersdorf | C32: 425863.16 | D32: 0 | E32: =SUM(C32:D32) -> 425863.16
B33: Hinterbrühl | C33: 989752.97 | D33: 11799.86 | E33: =SUM(C33:D33) -> 1001552.8
B34: Kaltenleutgeben | C34: 1044362.9 | D34: 0 | E34: =SUM(C34:D34) -> 1044362.9
B35: Laab im Walde | C35: 392811.11 | D35: 0 | E35: =SUM(C35:D35) -> 392811.11
... B43: Wienerwald | C43: 814782.1 | D43: 0 | E43: =SUM(C43:D43) -> 814782.1
B44: NÖ Durchschn | C44: =G4/Gemeinden!C24 -> 1159002.5 | D44: =G14/Gemeinden!C24 -> 57580.502 | E44: =SUM(C44:D44) -> 1216583
B45: Österreich Durchschn | C45: =G10/Gemeinden!C25 -> 1190838.2 | D45: =G20/Gemeinden!C25 -> 59608.54 | E45: =SUM(C45:D45) -> 1250446.8
